BEGIN:VCALENDAR
VERSION:2.0
PRODID:-//Coalition of African Animal Welfare Organisations - ECPv6.15.20//NONSGML v1.0//EN
CALSCALE:GREGORIAN
METHOD:PUBLISH
X-WR-CALNAME:Coalition of African Animal Welfare Organisations
X-ORIGINAL-URL:https://caawo.org
X-WR-CALDESC:Events for Coalition of African Animal Welfare Organisations
REFRESH-INTERVAL;VALUE=DURATION:PT1H
X-Robots-Tag:noindex
X-PUBLISHED-TTL:PT1H
BEGIN:VTIMEZONE
TZID:Africa/Johannesburg
BEGIN:STANDARD
TZOFFSETFROM:+0200
TZOFFSETTO:+0200
TZNAME:SAST
DTSTART:20250101T000000
END:STANDARD
END:VTIMEZONE
BEGIN:VEVENT
DTSTART;TZID=Africa/Johannesburg:20260707T080000
DTEND;TZID=Africa/Johannesburg:20260709T170000
DTSTAMP:20260422T135906
CREATED:20260306T070928Z
LAST-MODIFIED:20260306T071647Z
UID:829-1783411200-1783616400@caawo.org
SUMMARY:56th SASAS Congress
DESCRIPTION:Join the Leaders of Animal Science in Cape Town! 🦁🔬 \nRegistration is now open for the 56th Annual SASAS Congress\, taking place from 7-9 July 2026. Under the theme “Gearing Up: Animal Science and Beyond\,” this year’s congress focuses on the vital links between research\, production\, and policy. \nDon’t miss out on South Africa’s premier animal science event. Secure your spot at the Lagoon Beach Hotel and be part of the conversation shaping the future of the agricultural value chain. \nRegister Now
URL:https://caawo.org/event/56th-sasas-congress
LOCATION:Lagoon Beach Hotel\, Cape Town\, 1 Lagoon Gate Drive\, Lagoon Beach\, Cape Town\, Western Cape\, 7441\, South Africa
CATEGORIES:General,Health,Research
ATTACH;FMTTYPE=image/webp:https://caawo.org/wp-content/uploads/2025/04/Ban-Live-Exports-Goes-Global.webp
END:VEVENT
END:VCALENDAR