BEGIN:VCALENDAR
VERSION:2.0
PRODID:-//Coalition of African Animal Welfare Organisations - ECPv6.15.20//NONSGML v1.0//EN
CALSCALE:GREGORIAN
METHOD:PUBLISH
X-ORIGINAL-URL:https://caawo.org
X-WR-CALDESC:Events for Coalition of African Animal Welfare Organisations
REFRESH-INTERVAL;VALUE=DURATION:PT1H
X-Robots-Tag:noindex
X-PUBLISHED-TTL:PT1H
BEGIN:VTIMEZONE
TZID:Africa/Johannesburg
BEGIN:STANDARD
TZOFFSETFROM:+0200
TZOFFSETTO:+0200
TZNAME:SAST
DTSTART:20240101T000000
END:STANDARD
END:VTIMEZONE
BEGIN:VEVENT
DTSTART;TZID=Africa/Johannesburg:20251124T080000
DTEND;TZID=Africa/Johannesburg:20251205T170000
DTSTAMP:20260423T000024
CREATED:20250818T174302Z
LAST-MODIFIED:20250818T174353Z
UID:759-1763971200-1764954000@caawo.org
SUMMARY:20th Meeting of the Conference of the Parties (CoP20)
DESCRIPTION:20th Meeting of the Conference of the Parties (CoP20)📅 24 November – 5 December 2025📍 Silk Road Samarkand Expo Center\, Samarkand\, Uzbekistan \nThe Conference of the Parties (CoP20) will convene in Samarkand\, bringing together governments\, international organizations\, experts\, and stakeholders to address urgent global challenges in conservation\, biodiversity\, and sustainable resource management. \n🌍 Key Agenda Items \n\n\nAmendments to Appendices I & II – review of proposals to strengthen protections for species of global concern. \n\n\nPolicy & Implementation Dialogues – discussions on advancing conservation frameworks and international cooperation. \n\n\nWorking Documents & Reports – guiding decisions that will shape global environmental policy for years to come. \n\n\n✨ Why Attend CoP20? \n\n\nInfluence the direction of global conservation policy \n\n\nCollaborate with decision-makers\, NGOs\, scientists\, and industry leaders \n\n\nExplore the cultural and historic setting of Samarkand on the Silk Road \n\n\nContribute to international efforts to protect biodiversity and ecosystems \n\n\n📢 Stay InformedVisit the CoP20 dedicated webpage for the latest agenda\, working documents\, and official proposals.
URL:https://caawo.org/event/20th-meeting-of-the-conference-of-the-parties-cop20
CATEGORIES:Environment,Legal
ATTACH;FMTTYPE=image/webp:https://caawo.org/wp-content/uploads/2025/08/20th-Meeting-of-the-Conference-of-the-Parties.webp
END:VEVENT
END:VCALENDAR