BEGIN:VCALENDAR
VERSION:2.0
PRODID:-//Coalition of African Animal Welfare Organisations - ECPv6.15.20//NONSGML v1.0//EN
CALSCALE:GREGORIAN
METHOD:PUBLISH
X-ORIGINAL-URL:https://caawo.org
X-WR-CALDESC:Events for Coalition of African Animal Welfare Organisations
REFRESH-INTERVAL;VALUE=DURATION:PT1H
X-Robots-Tag:noindex
X-PUBLISHED-TTL:PT1H
BEGIN:VTIMEZONE
TZID:Africa/Johannesburg
BEGIN:STANDARD
TZOFFSETFROM:+0200
TZOFFSETTO:+0200
TZNAME:SAST
DTSTART:20240101T000000
END:STANDARD
END:VTIMEZONE
BEGIN:VEVENT
DTSTART;VALUE=DATE:20250806
DTEND;VALUE=DATE:20250807
DTSTAMP:20260423T032729
CREATED:20250422T134712Z
LAST-MODIFIED:20250422T134839Z
UID:429-1754438400-1754524799@caawo.org
SUMMARY:World Ocean Day
DESCRIPTION:Celebrate World Ocean Day – June 8\, 2024 \nOur ocean sustains life\, regulates our climate\, and supports biodiversity. Yet\, pollution\, overfishing\, and climate change threaten its delicate balance. \nOn June 8\, 2024\, join the global movement for World Ocean Day to protect and restore our blue planet. Together\, we can create a healthier\, more sustainable future for our ocean and for generations to come. \n🔗 Learn more about World Ocean Day \n#WorldOceanDay #ProtectOurOceans #OneOceanOneFuture #CAAWO
URL:https://caawo.org/event/world-ocean-day
CATEGORIES:Aquatic Life,Environment
ATTACH;FMTTYPE=image/webp:https://caawo.org/wp-content/uploads/2025/04/World-Ocean-Day.webp
END:VEVENT
END:VCALENDAR