BEGIN:VCALENDAR
VERSION:2.0
PRODID:-//Coalition of African Animal Welfare Organisations - ECPv6.15.20//NONSGML v1.0//EN
CALSCALE:GREGORIAN
METHOD:PUBLISH
X-ORIGINAL-URL:https://caawo.org
X-WR-CALDESC:Events for Coalition of African Animal Welfare Organisations
REFRESH-INTERVAL;VALUE=DURATION:PT1H
X-Robots-Tag:noindex
X-PUBLISHED-TTL:PT1H
BEGIN:VTIMEZONE
TZID:Africa/Johannesburg
BEGIN:STANDARD
TZOFFSETFROM:+0200
TZOFFSETTO:+0200
TZNAME:SAST
DTSTART:20240101T000000
END:STANDARD
END:VTIMEZONE
BEGIN:VEVENT
DTSTART;VALUE=DATE:20250605
DTEND;VALUE=DATE:20250606
DTSTAMP:20260423T060138
CREATED:20250422T135438Z
LAST-MODIFIED:20250422T135532Z
UID:434-1749081600-1749167999@caawo.org
SUMMARY:World Environment Day 2025
DESCRIPTION:Our Land. Our Future. – World Environment Day 2025 \nEcosystems around the world are at a tipping point—from forests and lakes to farmlands and drylands. Up to 40% of the planet’s land is degraded\, affecting billions of lives and threatening our future. \nThis World Environment Day\, observed on June 5\, 2025\, focuses on land restoration\, halting desertification\, and building drought resilience under the theme “Our Land. Our Future. We are #GenerationRestoration.” \nWe may not turn back time\, but we can restore forests\, revive water sources\, and heal the land. Join the movement and take action today! \n🔗 Learn more about World Environment Day \n#WorldEnvironmentDay #GenerationRestoration #ActForNature #CAAWO
URL:https://caawo.org/event/world-environment-day-2025
CATEGORIES:Environment,General
ATTACH;FMTTYPE=image/webp:https://caawo.org/wp-content/uploads/2025/04/World-Environment-Day.webp
END:VEVENT
BEGIN:VEVENT
DTSTART;TZID=Africa/Johannesburg:20250606T080000
DTEND;TZID=Africa/Johannesburg:20250613T170000
DTSTAMP:20260423T060138
CREATED:20250422T133704Z
LAST-MODIFIED:20250422T133758Z
UID:425-1749196800-1749834000@caawo.org
SUMMARY:2025 UN Ocean Conference
DESCRIPTION:2025 UN Ocean Conference – Nice\, France \nOur Ocean\, Our Future\, Our Responsibility. \nThe 2025 UN Ocean Conference\, co-hosted by France and Costa Rica\, will take place in Nice\, France\, from June 9–13\, 2025. This high-level event will accelerate global action to conserve and sustainably use our oceans\, seas\, and marine resources in alignment with Sustainable Development Goal 14 (SDG 14). \nLeaders\, organizations\, scientists\, and communities worldwide will come together to drive urgent solutions for ocean conservation\, sustainable use\, and economic resilience. The time to act is now! \n🔗 Learn more and get involved \n#UNOceanConference #SDG14 #ProtectOurOceans #CAAWO
URL:https://caawo.org/event/2025-un-ocean-conference
CATEGORIES:Aquatic Life,Climate Change,Environment
ATTACH;FMTTYPE=image/webp:https://caawo.org/wp-content/uploads/2025/04/UN-Ocean-Conference.webp
END:VEVENT
END:VCALENDAR