BEGIN:VCALENDAR
VERSION:2.0
PRODID:-//Coalition of African Animal Welfare Organisations - ECPv6.15.20//NONSGML v1.0//EN
CALSCALE:GREGORIAN
METHOD:PUBLISH
X-ORIGINAL-URL:https://caawo.org
X-WR-CALDESC:Events for Coalition of African Animal Welfare Organisations
REFRESH-INTERVAL;VALUE=DURATION:PT1H
X-Robots-Tag:noindex
X-PUBLISHED-TTL:PT1H
BEGIN:VTIMEZONE
TZID:Africa/Johannesburg
BEGIN:STANDARD
TZOFFSETFROM:+0200
TZOFFSETTO:+0200
TZNAME:SAST
DTSTART:20240101T000000
END:STANDARD
END:VTIMEZONE
BEGIN:VEVENT
DTSTART;TZID=Africa/Johannesburg:20250818T080000
DTEND;TZID=Africa/Johannesburg:20250818T170000
DTSTAMP:20260423T050133
CREATED:20250818T171308Z
LAST-MODIFIED:20250818T172220Z
UID:756-1755504000-1755536400@caawo.org
SUMMARY:UN Climate Change Conference (COP30) – Belém\, Brazil
DESCRIPTION:UN Climate Change Conference (COP30) – Belém\, Brazil📅 10–21 November 2025 | 📍 Belém\, Pará\, Brazil \nThe UN Climate Change Conference (COP30) will bring together world leaders\, negotiators\, scientists\, businesses\, Indigenous communities\, and civil society in Belém\, Brazil\, at the heart of the Amazon. This pivotal event will serve as a global platform to accelerate climate action\, strengthen international cooperation\, and deliver solutions for people and planet. \n🌍 Key Highlights of COP30 \n\n\nLeaders’ Climate Summit (6–7 November) hosted by Brazil\, setting the stage for negotiations. \n\n\nGlobal negotiations on climate finance\, adaptation\, mitigation\, and just transitions. \n\n\nShowcasing nature-based solutions with a special focus on the Amazon’s role in climate resilience. \n\n\nEngagement of youth\, Indigenous peoples\, and frontline communities in shaping global climate policy. \n\n\nOpportunities for collaboration among governments\, NGOs\, and the private sector. \n\n\n📰 Media Accreditation Now OpenMedia representatives can apply for accreditation to cover COP30 and the Leaders’ Summit via the Online Registration System (ORS) — the only official channel for media access.👉 For details\, visit the Press & Media page or contact press@cop30.br. \n✨ Why COP30 MattersCOP30 marks a critical milestone in the global climate agenda\, building on the Paris Agreement and paving the way for urgent\, transformative climate action. Decisions made in Belém will shape policies for decades\, particularly for vulnerable regions most affected by climate change. \nJoin us in Belém this November as the world unites to turn ambition into action for a sustainable future.
URL:https://caawo.org/event/un-climate-change-conference-cop30-belem-brazil
CATEGORIES:Climate Change
ATTACH;FMTTYPE=image/webp:https://caawo.org/wp-content/uploads/2025/08/UN-Climate-Change.webp
END:VEVENT
END:VCALENDAR