BEGIN:VCALENDAR
VERSION:2.0
PRODID:-//Coalition of African Animal Welfare Organisations - ECPv6.15.20//NONSGML v1.0//EN
CALSCALE:GREGORIAN
METHOD:PUBLISH
X-WR-CALNAME:Coalition of African Animal Welfare Organisations
X-ORIGINAL-URL:https://caawo.org
X-WR-CALDESC:Events for Coalition of African Animal Welfare Organisations
REFRESH-INTERVAL;VALUE=DURATION:PT1H
X-Robots-Tag:noindex
X-PUBLISHED-TTL:PT1H
BEGIN:VTIMEZONE
TZID:Africa/Johannesburg
BEGIN:STANDARD
TZOFFSETFROM:+0200
TZOFFSETTO:+0200
TZNAME:SAST
DTSTART:20240101T000000
END:STANDARD
END:VTIMEZONE
BEGIN:VEVENT
DTSTART;TZID=Africa/Johannesburg:20251009T080000
DTEND;TZID=Africa/Johannesburg:20251015T170000
DTSTAMP:20260422T235555
CREATED:20250818T164113Z
LAST-MODIFIED:20250818T165129Z
UID:746-1759996800-1760547600@caawo.org
SUMMARY:IUCN World Conservation Congress 2025
DESCRIPTION:IUCN World Conservation Congress 2025📅 9–15 October 2025 \nEvery four years\, the IUCN World Conservation Congress brings together thousands of conservation experts\, Indigenous leaders\, policymakers\, scientists\, NGOs\, and businesses from across the globe. This landmark event serves as the world’s largest platform for shaping global conservation policy and driving transformative action for nature and people. \n🌍 A Congress with Three Components \n\n\nForum (9–12 October)The Forum is the world’s largest marketplace for conservation knowledge\, innovation\, and practice. Participants explore solutions to today’s most urgent environmental challenges\, from climate change and biodiversity loss to sustainable development. \n\n\nExhibition (9–13 October)The Exhibition showcases the work of IUCN Members\, Commissions\, partners\, businesses\, and academia. Open to both Congress participants and the public\, it highlights cutting-edge research\, technologies\, and community-driven solutions that advance global conservation. \n\n\nMembers’ Assembly (13–15 October)The Members’ Assembly is IUCN’s highest decision-making body. Here\, Member organisations debate and vote on motions that shape international conservation priorities and policies for years to come. \n\n\n💡 Congress Themes 2025This edition of the Congress focuses on five key themes driving transformative conservation\, from protecting biodiversity and climate resilience to fostering inclusive governance and sustainable economies. \n🌱 A Sustainable CongressIUCN is committed to making the Congress environmentally responsible by reducing its footprint and ensuring positive impacts for host communities. \n✨ Why Attend? \n\n\nInfluence global conservation policy \n\n\nLearn from the latest scientific and community-based innovations \n\n\nConnect with decision-makers\, leaders\, and activists worldwide \n\n\nBe part of the most important conservation gathering of the decade \n\n\n👉 Join us at the IUCN World Conservation Congress 2025 and help shape a sustainable future for people and planet.
URL:https://caawo.org/event/iucn-world-conservation-congress-2025
LOCATION:IUCN World Conservation Congress
CATEGORIES:Business,Climate Change,Environment
ATTACH;FMTTYPE=image/webp:https://caawo.org/wp-content/uploads/2025/08/IUCN-World-Conservation-Congress.webp
END:VEVENT
BEGIN:VEVENT
DTSTART;TZID=Africa/Johannesburg:20251020T080000
DTEND;TZID=Africa/Johannesburg:20251024T170000
DTSTAMP:20260422T235555
CREATED:20250818T165942Z
LAST-MODIFIED:20250818T170603Z
UID:751-1760947200-1761325200@caawo.org
SUMMARY:6th World Congress on Agroforestry (WCA2025)!
DESCRIPTION:Welcome to the 6th World Congress on Agroforestry (WCA2025)!📅 October 20–24\, 2025 | 📍 Kigali\, Rwanda🌍 Theme: Agroforestry for People\, Planet & Profit \nThe World Congress on Agroforestry is the premier global event uniting farmers\, researchers\, policymakers\, private sector leaders\, and civil society to advance sustainable land management\, climate resilience\, and agro-ecosystem innovation. \nIn 2025\, the Congress will gather in Kigali\, Rwanda for its 6th edition\, providing an international platform to exchange knowledge\, present cutting-edge research\, and showcase best practices in agroforestry systems. \n💡 Congress Thematic Sessions: \n\n\nAgroforestry’s role in a changing climate \n\n\nBiodiversity and ecosystem services \n\n\nLivelihoods and community resilience \n\n\nSustainable food systems \n\n\nBioeconomy contributions \n\n\nTraditions\, knowledge\, and innovation \n\n\nFinancial and policy frameworks \n\n\nSilvopastoral systems \n\n\nMultistrata agroforestry with perennial crops \n\n\n✨ Why Attend WCA2025? \n\n\nHear from leading global experts in agroforestry research and practice \n\n\nShare innovations that improve farmer incomes and food security \n\n\nExplore solutions for climate change mitigation and adaptation \n\n\nNetwork with farmers\, advisors\, governments\, NGOs\, and private sector leaders \n\n\nShape the global conversation on sustainable and resilient agro-ecosystems \n\n\n📢 Abstract submissions are open until May 31\, 2025!Submit your research\, development project\, or innovative fieldwork findings for poster or oral presentations\, and be part of the global dialogue driving the future of agroforestry. \n👉 Don’t miss this opportunity to shape the future of people-centered\, climate-smart\, and profitable agroforestry systems.
URL:https://caawo.org/event/6th-world-congress-on-agroforestry-wca2025
CATEGORIES:Climate Change,Environment
ATTACH;FMTTYPE=image/webp:https://caawo.org/wp-content/uploads/2025/08/6th-World-Congress-on-Agroforestry.webp
END:VEVENT
END:VCALENDAR