BEGIN:VCALENDAR
VERSION:2.0
PRODID:-//Coalition of African Animal Welfare Organisations - ECPv6.15.20//NONSGML v1.0//EN
CALSCALE:GREGORIAN
METHOD:PUBLISH
X-ORIGINAL-URL:https://caawo.org
X-WR-CALDESC:Events for Coalition of African Animal Welfare Organisations
REFRESH-INTERVAL;VALUE=DURATION:PT1H
X-Robots-Tag:noindex
X-PUBLISHED-TTL:PT1H
BEGIN:VTIMEZONE
TZID:Africa/Johannesburg
BEGIN:STANDARD
TZOFFSETFROM:+0200
TZOFFSETTO:+0200
TZNAME:SAST
DTSTART:20240101T000000
END:STANDARD
END:VTIMEZONE
BEGIN:VEVENT
DTSTART;VALUE=DATE:20250502
DTEND;VALUE=DATE:20250503
DTSTAMP:20260423T114603
CREATED:20250422T140110Z
LAST-MODIFIED:20250422T140141Z
UID:437-1746144000-1746230399@caawo.org
SUMMARY:World Tuna Day 2025
DESCRIPTION:Is Your Tuna Sustainable? \nTuna is a pantry staple\, rich in Omega-3s\, proteins\, and essential vitamins. But the growing demand for this nutritious fish has pushed many tuna species to unsustainable levels. \nWorld Tuna Day\, observed annually by the United Nations\, aims to raise awareness of the importance of sustainable tuna fishing and the conservation efforts needed to protect tuna stocks for future generations. The FAO’s Common Oceans Tuna project is working towards ensuring all major tuna stocks are fished sustainably by 2027\, making this an urgent cause. \nTake action today and help ensure the future of tuna!🔗 Learn more about World Tuna Day
URL:https://caawo.org/event/world-tuna-day-2025
CATEGORIES:Aquatic Life
ATTACH;FMTTYPE=image/webp:https://caawo.org/wp-content/uploads/2025/04/World-Tuna-Day.webp
END:VEVENT
END:VCALENDAR